BEGIN:VCALENDAR
VERSION:2.0
PRODID:SchoolNow
CALSCALE:GREGORIAN
BEGIN:VEVENT
UID:d8cfae64-c6b4-11ef-8690-0afff0583425
DTSTAMP:20241230T135821Z
SUMMARY:Mahjong - Jun. 10\, 2025
LOCATION:Clubhouse
URL;VALUE=URI:https://www.forestcreekcdd.org/calendar/7245089/mahjong-jun-1
 0-2025
DTSTART:20250610T223000Z
DTEND:20250611T003000Z
END:VEVENT
END:VCALENDAR
