BEGIN:VCALENDAR
VERSION:2.0
PRODID:SchoolNow
CALSCALE:GREGORIAN
BEGIN:VEVENT
UID:dfd8d4d8-c6b4-11ef-958c-028ca33ecb31
DTSTAMP:20241230T135838Z
SUMMARY:Mahjong - Jun. 17\, 2025
LOCATION:Clubhouse
URL;VALUE=URI:https://www.forestcreekcdd.org/calendar/7245090/mahjong-jun-1
 7-2025
DTSTART:20250617T223000Z
DTEND:20250618T003000Z
END:VEVENT
END:VCALENDAR
