BEGIN:VCALENDAR
VERSION:2.0
PRODID:SchoolNow
CALSCALE:GREGORIAN
BEGIN:VEVENT
UID:e7fa7ed2-c6b4-11ef-b06c-0a58a9feac02
DTSTAMP:20241230T135850Z
SUMMARY:Mahjong - Jun. 24\, 2025
LOCATION:Clubhouse
URL;VALUE=URI:https://www.forestcreekcdd.org/calendar/7245091/mahjong-jun-2
 6-2025
DTSTART:20250624T223000Z
DTEND:20250625T003000Z
END:VEVENT
END:VCALENDAR
