BEGIN:VCALENDAR
VERSION:2.0
PRODID:SchoolNow
CALSCALE:GREGORIAN
BEGIN:VEVENT
UID:f2ce1562-c6b4-11ef-b01a-0afff0583425
DTSTAMP:20241230T135104Z
SUMMARY:Mahjong - Jul. 1\, 2025
LOCATION:Clubhouse
URL;VALUE=URI:https://www.forestcreekcdd.org/calendar/7245092/mahjong-jul-3
 -2025
DTSTART:20250701T223000Z
DTEND:20250702T003000Z
END:VEVENT
END:VCALENDAR
