BEGIN:VCALENDAR
VERSION:2.0
PRODID:SchoolNow
CALSCALE:GREGORIAN
BEGIN:VEVENT
UID:fcf8a76e-c6b4-11ef-acf1-0e472b15a6a1
DTSTAMP:20241230T135117Z
SUMMARY:Mahjong - Jul. 8\, 2025
LOCATION:Clubhouse
URL;VALUE=URI:https://www.forestcreekcdd.org/calendar/7245093/mahjong-jul-8
 -2025
DTSTART:20250708T223000Z
DTEND:20250709T003000Z
END:VEVENT
END:VCALENDAR
