BEGIN:VCALENDAR
VERSION:2.0
PRODID:SchoolNow
CALSCALE:GREGORIAN
BEGIN:VEVENT
UID:03b00c3c-c6b5-11ef-8d60-0a58a9feac02
DTSTAMP:20241230T135129Z
SUMMARY:Mahjong - Jul. 15\, 2025
LOCATION:Clubhouse
URL;VALUE=URI:https://www.forestcreekcdd.org/calendar/7245094/mahjong-jul-1
 5-2025
DTSTART:20250715T223000Z
DTEND:20250716T003000Z
END:VEVENT
END:VCALENDAR
