BEGIN:VCALENDAR
VERSION:2.0
PRODID:SchoolNow
CALSCALE:GREGORIAN
BEGIN:VEVENT
UID:0c74d172-c6b5-11ef-a2fd-0a58a9feac02
DTSTAMP:20241230T135140Z
SUMMARY:Mahjong - Jul. 22\, 2025
LOCATION:Clubhouse
URL;VALUE=URI:https://www.forestcreekcdd.org/calendar/7245095/mahjong-jul-2
 2-2025
DTSTART:20250722T223000Z
DTEND:20250723T003000Z
END:VEVENT
END:VCALENDAR
