BEGIN:VCALENDAR
VERSION:2.0
PRODID:SchoolNow
CALSCALE:GREGORIAN
BEGIN:VEVENT
UID:cca55a02-c6b5-11ef-829a-0a58a9feac02
DTSTAMP:20241230T135559Z
SUMMARY:Mahjong - Apr. 29\, 2025
LOCATION:Clubhouse
URL;VALUE=URI:https://www.forestcreekcdd.org/calendar/7245096/mahjong-apr-2
 9-2025
DTSTART:20250429T223000Z
DTEND:20250430T003000Z
END:VEVENT
END:VCALENDAR
