BEGIN:VCALENDAR
VERSION:2.0
PRODID:SchoolNow
CALSCALE:GREGORIAN
BEGIN:VEVENT
UID:40efd63a-c6b6-11ef-884f-0e27c1cd314f
DTSTAMP:20241230T135914Z
SUMMARY:Mahjong - Jul. 29\, 2025
LOCATION:Clubhouse
URL;VALUE=URI:https://www.forestcreekcdd.org/calendar/7245097/mahjong-jul-2
 9-2025
DTSTART:20250729T223000Z
DTEND:20250730T003000Z
END:VEVENT
END:VCALENDAR
