BEGIN:VCALENDAR
VERSION:2.0
PRODID:SchoolNow
CALSCALE:GREGORIAN
BEGIN:VEVENT
UID:4c1f5b84-c6b6-11ef-b820-0e472b15a6a1
DTSTAMP:20241230T135933Z
SUMMARY:Mahjong - Aug. 5\, 2025
LOCATION:Clubhouse
URL;VALUE=URI:https://www.forestcreekcdd.org/calendar/7245098/mahjong-aug-5
 -2025
DTSTART:20250805T223000Z
DTEND:20250806T003000Z
END:VEVENT
END:VCALENDAR
