BEGIN:VCALENDAR
VERSION:2.0
PRODID:SchoolNow
CALSCALE:GREGORIAN
BEGIN:VEVENT
UID:591b72aa-c6b6-11ef-b20c-02b7128a9073
DTSTAMP:20241230T135955Z
SUMMARY:Mahjong - Aug. 12\, 2025
LOCATION:Clubhouse
URL;VALUE=URI:https://www.forestcreekcdd.org/calendar/7245099/mahjong-aug-1
 2-2025
DTSTART:20250812T223000Z
DTEND:20250813T003000Z
END:VEVENT
END:VCALENDAR
