BEGIN:VCALENDAR
VERSION:2.0
PRODID:SchoolNow
CALSCALE:GREGORIAN
BEGIN:VEVENT
UID:60750a02-c6b6-11ef-a679-02f53cc9552d
DTSTAMP:20241230T140007Z
SUMMARY:Mahjong - Aug. 19\, 2025
LOCATION:Clubhouse
URL;VALUE=URI:https://www.forestcreekcdd.org/calendar/7245100/mahjong-aug-1
 9-2025
DTSTART:20250819T223000Z
DTEND:20250820T003000Z
END:VEVENT
END:VCALENDAR
