BEGIN:VCALENDAR
VERSION:2.0
PRODID:SchoolNow
CALSCALE:GREGORIAN
BEGIN:VEVENT
UID:680492c4-c6b6-11ef-bb15-0268c9af9d41
DTSTAMP:20241230T140020Z
SUMMARY:Mahjong - Aug. 26\, 2025
LOCATION:Clubhouse
URL;VALUE=URI:https://www.forestcreekcdd.org/calendar/7245101/mahjong-aug-2
 6-2025
DTSTART:20250826T223000Z
DTEND:20250827T003000Z
END:VEVENT
END:VCALENDAR
