BEGIN:VCALENDAR
VERSION:2.0
PRODID:SchoolNow
CALSCALE:GREGORIAN
BEGIN:VEVENT
UID:729a840a-c6b6-11ef-aefa-0a58a9feac02
DTSTAMP:20241230T140038Z
SUMMARY:Mahjong - Sept. 6\, 2025
LOCATION:Clubhouse
URL;VALUE=URI:https://www.forestcreekcdd.org/calendar/7245102/mahjong-sept-
 6-2025
DTSTART:20250902T223000Z
DTEND:20250903T003000Z
END:VEVENT
END:VCALENDAR
