BEGIN:VCALENDAR
VERSION:2.0
PRODID:SchoolNow
CALSCALE:GREGORIAN
BEGIN:VEVENT
UID:816c9ba8-c6b6-11ef-a1b5-02b7128a9073
DTSTAMP:20241230T140102Z
SUMMARY:Mahjong - Sept. 9\, 2025
LOCATION:Clubhouse
URL;VALUE=URI:https://www.forestcreekcdd.org/calendar/7245103/mahjong-sept-
 9-2025
DTSTART:20250909T223000Z
DTEND:20250910T003000Z
END:VEVENT
END:VCALENDAR
