BEGIN:VCALENDAR
VERSION:2.0
PRODID:SchoolNow
CALSCALE:GREGORIAN
BEGIN:VEVENT
UID:8a8497b8-c6b6-11ef-bd3d-0e27c1cd314f
DTSTAMP:20241230T140118Z
SUMMARY:Mahjong - Sept. 16\, 2025
LOCATION:Clubhouse
URL;VALUE=URI:https://www.forestcreekcdd.org/calendar/7245104/mahjong-sept-
 16-2025
DTSTART:20250916T223000Z
DTEND:20250917T003000Z
END:VEVENT
END:VCALENDAR
