BEGIN:VCALENDAR
VERSION:2.0
PRODID:SchoolNow
CALSCALE:GREGORIAN
BEGIN:VEVENT
UID:9146f03c-c6b6-11ef-9b3a-0a58a9feac02
DTSTAMP:20241230T140129Z
SUMMARY:Mahjong - Sept. 23\, 2025
LOCATION:Clubhouse
URL;VALUE=URI:https://www.forestcreekcdd.org/calendar/7245105/mahjong-sept-
 23-2025
DTSTART:20250923T223000Z
DTEND:20250924T003000Z
END:VEVENT
END:VCALENDAR
