BEGIN:VCALENDAR
VERSION:2.0
PRODID:SchoolNow
CALSCALE:GREGORIAN
BEGIN:VEVENT
UID:9879327a-c6b6-11ef-9615-0affe8e91297
DTSTAMP:20241230T140141Z
SUMMARY:Mahjong - Sept. 30\, 2025
LOCATION:Clubhouse
URL;VALUE=URI:https://www.forestcreekcdd.org/calendar/7245106/mahjong-sept-
 30-2025
DTSTART:20250930T223000Z
DTEND:20251001T003000Z
END:VEVENT
END:VCALENDAR
