BEGIN:VCALENDAR
VERSION:2.0
PRODID:SchoolNow
CALSCALE:GREGORIAN
BEGIN:VEVENT
UID:a3c0be00-c6b6-11ef-b181-0affe8e91297
DTSTAMP:20241230T140234Z
SUMMARY:Mahjong - Nov. 4\, 2025
LOCATION:Clubhouse
URL;VALUE=URI:https://www.forestcreekcdd.org/calendar/7245107/mahjong-nov-4
 -2025
DTSTART:20251104T233000Z
DTEND:20251105T013000Z
END:VEVENT
END:VCALENDAR
