BEGIN:VCALENDAR
VERSION:2.0
PRODID:SchoolNow
CALSCALE:GREGORIAN
BEGIN:VEVENT
UID:ac339936-c6b6-11ef-8e6e-0a58a9feac02
DTSTAMP:20241230T140249Z
SUMMARY:Mahjong - Nov. 11\, 2025
LOCATION:Clubhouse
URL;VALUE=URI:https://www.forestcreekcdd.org/calendar/7245108/mahjong-nov-1
 1-2025
DTSTART:20251111T233000Z
DTEND:20251112T013000Z
END:VEVENT
END:VCALENDAR
