BEGIN:VCALENDAR
VERSION:2.0
PRODID:SchoolNow
CALSCALE:GREGORIAN
BEGIN:VEVENT
UID:c94bc372-c6b6-11ef-8450-0e27c1cd314f
DTSTAMP:20241230T140303Z
SUMMARY:Mahjong - Nov. 18\, 2025
LOCATION:Clubhouse
URL;VALUE=URI:https://www.forestcreekcdd.org/calendar/7245109/mahjong-nov-1
 8-2025
DTSTART:20251118T233000Z
DTEND:20251119T013000Z
END:VEVENT
END:VCALENDAR
