BEGIN:VCALENDAR
VERSION:2.0
PRODID:SchoolNow
CALSCALE:GREGORIAN
BEGIN:VEVENT
UID:d0f10506-c6b6-11ef-98c7-0e472b15a6a1
DTSTAMP:20241230T140316Z
SUMMARY:Mahjong - Nov. 25\, 2025
LOCATION:Clubhouse
URL;VALUE=URI:https://www.forestcreekcdd.org/calendar/7245110/mahjong-nov-1
 8-2025-clone
DTSTART:20251125T233000Z
DTEND:20251126T013000Z
END:VEVENT
END:VCALENDAR
