BEGIN:VCALENDAR
VERSION:2.0
PRODID:SchoolNow
CALSCALE:GREGORIAN
BEGIN:VEVENT
UID:1172d686-c6b7-11ef-a0d2-0e27c1cd314f
DTSTAMP:20250929T095322Z
SUMMARY:Mahjong - Oct. 7\, 2025
LOCATION:Clubhouse
URL;VALUE=URI:https://www.forestcreekcdd.org/calendar/7245115/mahjong-oct-7
 -2025
DTSTART:20251007T170000Z
DTEND:20251007T190000Z
END:VEVENT
END:VCALENDAR
