BEGIN:VCALENDAR
VERSION:2.0
PRODID:SchoolNow
CALSCALE:GREGORIAN
BEGIN:VEVENT
UID:1d61058a-c6b7-11ef-b838-028ca33ecb31
DTSTAMP:20241230T140524Z
SUMMARY:Mahjong - Oct. 14\, 2025
LOCATION:Clubhouse
URL;VALUE=URI:https://www.forestcreekcdd.org/calendar/7245116/mahjong-oct-1
 4-2025
DTSTART:20251014T223000Z
DTEND:20251015T003000Z
END:VEVENT
END:VCALENDAR
