BEGIN:VCALENDAR
VERSION:2.0
PRODID:SchoolNow
CALSCALE:GREGORIAN
BEGIN:VEVENT
UID:241f7b86-c6b7-11ef-9c24-0a58a9feac02
DTSTAMP:20241230T140535Z
SUMMARY:Mahjong - Oct. 21\, 2025
LOCATION:Clubhouse
URL;VALUE=URI:https://www.forestcreekcdd.org/calendar/7245117/mahjong-oct-2
 1-2025
DTSTART:20251021T223000Z
DTEND:20251022T003000Z
END:VEVENT
END:VCALENDAR
