BEGIN:VCALENDAR
VERSION:2.0
PRODID:SchoolNow
CALSCALE:GREGORIAN
BEGIN:VEVENT
UID:2e053bae-c6b7-11ef-9b51-0a58a9feac02
DTSTAMP:20241230T140552Z
SUMMARY:Mahjong - Oct. 28 2025
LOCATION:Clubhouse
URL;VALUE=URI:https://www.forestcreekcdd.org/calendar/7245118/mahjong-oct-2
 8-2025
DTSTART:20251028T223000Z
DTEND:20251029T003000Z
END:VEVENT
END:VCALENDAR
