BEGIN:VCALENDAR
VERSION:2.0
PRODID:SchoolNow
CALSCALE:GREGORIAN
BEGIN:VEVENT
UID:18994d4e-cc4f-11ef-9062-0e6eebcc4dc5
DTSTAMP:20250106T165555Z
SUMMARY:ARC meeting - Jan 2025
LOCATION:Forest Creek Clubhouse - 11685 Old Florida Lane\, Parrish\, FL 342
 19
URL;VALUE=URI:https://www.forestcreekcdd.org/calendar/7275865/arc-meeting-j
 an-2025
DTSTART:20250110T000000Z
DTEND:20250110T010000Z
END:VEVENT
END:VCALENDAR
