BEGIN:VCALENDAR
VERSION:2.0
PRODID:SchoolNow
CALSCALE:GREGORIAN
BEGIN:VEVENT
UID:2a9991d4-cc4f-11ef-9510-0efd136c10b7
DTSTAMP:20250106T165626Z
SUMMARY:HOA  Meeting - Jan. 2025
LOCATION:Forest Creek Clubhouse - 11685 Old Florida Lane\, Parrish\, FL 342
 19
URL;VALUE=URI:https://www.forestcreekcdd.org/calendar/7275866/hoa-meeting-j
 an-2025
DTSTART:20250116T230000Z
DTEND:20250117T020000Z
END:VEVENT
END:VCALENDAR
