BEGIN:VCALENDAR
VERSION:2.0
PRODID:SchoolNow
CALSCALE:GREGORIAN
BEGIN:VEVENT
UID:4f892d3c-cd3b-11ef-85b5-0eb709c6d70f
DTSTAMP:20250107T210649Z
SUMMARY:Private Event - May 4th
URL;VALUE=URI:https://www.forestcreekcdd.org/calendar/7283200/private-event
 -may-4th
DTSTART:20250504T150000Z
DTEND:20250504T200000Z
END:VEVENT
END:VCALENDAR
