BEGIN:VCALENDAR
VERSION:2.0
PRODID:SchoolNow
CALSCALE:GREGORIAN
BEGIN:VEVENT
UID:1067606e-cf71-11ef-a6c7-0a58a9feac02
DTSTAMP:20250121T225716Z
SUMMARY:Private Event - July 12th
URL;VALUE=URI:https://www.forestcreekcdd.org/calendar/7296902/private-event
 -july-12th
DTSTART:20250712T150000Z
DTEND:20250712T190000Z
END:VEVENT
END:VCALENDAR
