BEGIN:VCALENDAR
VERSION:2.0
PRODID:SchoolNow
CALSCALE:GREGORIAN
BEGIN:VEVENT
UID:6da28358-d804-11ef-be15-0a58a9feac02
DTSTAMP:20250121T143140Z
SUMMARY:HOA Landscape Committee - March 19th\,  2025
LOCATION:Forest Creek Clubhouse - 11685 Old Florida Lane\, Parrish\, FL 342
 19
URL;VALUE=URI:https://www.forestcreekcdd.org/calendar/7348901/hoa-landscape
 -committee-march-19th-2025
DTSTART:20250319T220000Z
DTEND:20250320T000000Z
END:VEVENT
END:VCALENDAR
