BEGIN:VCALENDAR
VERSION:2.0
PRODID:SchoolNow
CALSCALE:GREGORIAN
BEGIN:VEVENT
UID:c699ebac-d8dd-11ef-a0e8-0affd988a3d5
DTSTAMP:20250122T162730Z
SUMMARY:Private Event - Jan. 25th
URL;VALUE=URI:https://www.forestcreekcdd.org/calendar/7353913/private-event
 -jan-25th
DTSTART:20250125T210000Z
DTEND:20250126T000000Z
END:VEVENT
END:VCALENDAR
