BEGIN:VCALENDAR
VERSION:2.0
PRODID:SchoolNow
CALSCALE:GREGORIAN
BEGIN:VEVENT
UID:a8375eca-f074-11ef-8eea-0e503b533187
DTSTAMP:20250221T165530Z
SUMMARY:HOA  Meeting - Mar. 2025
LOCATION:Forest Creek Clubhouse - 11685 Old Florida Lane\, Parrish\, FL 342
 19
URL;VALUE=URI:https://www.forestcreekcdd.org/calendar/7517967/hoa-meeting-m
 ar-2025
DTSTART:20250320T220000Z
DTEND:20250321T010000Z
END:VEVENT
END:VCALENDAR
