BEGIN:VCALENDAR
VERSION:2.0
PRODID:SchoolNow
CALSCALE:GREGORIAN
BEGIN:VEVENT
UID:b15e1e8a-f074-11ef-8558-0a58a9feac02
DTSTAMP:20250221T165545Z
SUMMARY:HOA  Meeting - Apr. 2025
LOCATION:Forest Creek Clubhouse - 11685 Old Florida Lane\, Parrish\, FL 342
 19
URL;VALUE=URI:https://www.forestcreekcdd.org/calendar/7517968/hoa-meeting-a
 pr-2025
DTSTART:20250417T220000Z
DTEND:20250418T010000Z
END:VEVENT
END:VCALENDAR
