BEGIN:VCALENDAR
VERSION:2.0
PRODID:SchoolNow
CALSCALE:GREGORIAN
BEGIN:VEVENT
UID:bb2e58ee-f074-11ef-801b-0a58a9feac02
DTSTAMP:20250221T165601Z
SUMMARY:HOA  Meeting - May 2025
LOCATION:Forest Creek Clubhouse - 11685 Old Florida Lane\, Parrish\, FL 342
 19
URL;VALUE=URI:https://www.forestcreekcdd.org/calendar/7517969/hoa-meeting-m
 ay-2025
DTSTART:20250515T220000Z
DTEND:20250516T010000Z
END:VEVENT
END:VCALENDAR
