BEGIN:VCALENDAR
VERSION:2.0
PRODID:SchoolNow
CALSCALE:GREGORIAN
BEGIN:VEVENT
UID:c779363c-f074-11ef-89c8-0a58a9feac02
DTSTAMP:20250221T165622Z
SUMMARY:HOA  Meeting - Jun. 2025
LOCATION:Forest Creek Clubhouse - 11685 Old Florida Lane\, Parrish\, FL 342
 19
URL;VALUE=URI:https://www.forestcreekcdd.org/calendar/7517970/hoa-meeting-j
 un-2025
DTSTART:20250619T220000Z
DTEND:20250620T010000Z
END:VEVENT
END:VCALENDAR
