BEGIN:VCALENDAR
VERSION:2.0
PRODID:SchoolNow
CALSCALE:GREGORIAN
BEGIN:VEVENT
UID:d15e7036-f074-11ef-b3e5-0e503b533187
DTSTAMP:20250221T165639Z
SUMMARY:HOA  Meeting - Jul. 2025
LOCATION:Forest Creek Clubhouse - 11685 Old Florida Lane\, Parrish\, FL 342
 19
URL;VALUE=URI:https://www.forestcreekcdd.org/calendar/7517971/hoa-meeting-j
 ul-2025
DTSTART:20250717T220000Z
DTEND:20250718T010000Z
END:VEVENT
END:VCALENDAR
