BEGIN:VCALENDAR
VERSION:2.0
PRODID:SchoolNow
CALSCALE:GREGORIAN
BEGIN:VEVENT
UID:dce9653c-f074-11ef-8df0-0a58a9feac02
DTSTAMP:20250221T165658Z
SUMMARY:HOA  Meeting - Aug. 2025
LOCATION:Forest Creek Clubhouse - 11685 Old Florida Lane\, Parrish\, FL 342
 19
URL;VALUE=URI:https://www.forestcreekcdd.org/calendar/7517972/hoa-meeting-a
 ug-2025
DTSTART:20250821T220000Z
DTEND:20250822T010000Z
END:VEVENT
END:VCALENDAR
