BEGIN:VCALENDAR
VERSION:2.0
PRODID:SchoolNow
CALSCALE:GREGORIAN
BEGIN:VEVENT
UID:e74e25b2-f074-11ef-af9a-0a58a9feac02
DTSTAMP:20250221T165715Z
SUMMARY:HOA  Meeting - Sept. 2025
LOCATION:Forest Creek Clubhouse - 11685 Old Florida Lane\, Parrish\, FL 342
 19
URL;VALUE=URI:https://www.forestcreekcdd.org/calendar/7517973/hoa-meeting-s
 ept-2025
DTSTART:20250918T220000Z
DTEND:20250919T010000Z
END:VEVENT
END:VCALENDAR
