BEGIN:VCALENDAR
VERSION:2.0
PRODID:SchoolNow
CALSCALE:GREGORIAN
BEGIN:VEVENT
UID:31cbf35e-1a2c-11f0-8f85-0a58a9feac02
DTSTAMP:20250415T190236Z
SUMMARY:Forest Creek Book Club - May 2025
URL;VALUE=URI:https://www.forestcreekcdd.org/calendar/7932775/forest-creek-
 book-club-may-2025
DTSTART:20250501T220000Z
DTEND:20250502T003000Z
END:VEVENT
END:VCALENDAR
