BEGIN:VCALENDAR
VERSION:2.0
PRODID:SchoolNow
CALSCALE:GREGORIAN
BEGIN:VEVENT
UID:420f78f8-1a2c-11f0-8514-0a58a9feac02
DTSTAMP:20250415T190403Z
SUMMARY:Forest Creek Book Club - Jul. 2025
URL;VALUE=URI:https://www.forestcreekcdd.org/calendar/7932776/forest-creek-
 book-club-jul-2025
DTSTART:20250703T220000Z
DTEND:20250704T003000Z
END:VEVENT
END:VCALENDAR
