BEGIN:VCALENDAR
VERSION:2.0
PRODID:SchoolNow
CALSCALE:GREGORIAN
BEGIN:VEVENT
UID:4f008188-1a2c-11f0-80ea-022277d9b99f
DTSTAMP:20250415T190358Z
SUMMARY:Forest Creek Book Club - Sept. 2025
URL;VALUE=URI:https://www.forestcreekcdd.org/calendar/7932777/forest-creek-
 book-club-sept-2025
DTSTART:20250904T220000Z
DTEND:20250905T003000Z
END:VEVENT
END:VCALENDAR
