BEGIN:VCALENDAR
VERSION:2.0
PRODID:SchoolNow
CALSCALE:GREGORIAN
BEGIN:VEVENT
UID:5d793ab6-1a2c-11f0-ba4a-025980a734f5
DTSTAMP:20250415T190349Z
SUMMARY:Forest Creek Book Club - Nov. 2025
URL;VALUE=URI:https://www.forestcreekcdd.org/calendar/7932778/forest-creek-
 book-club-nov-2025
DTSTART:20251106T230000Z
DTEND:20251107T013000Z
END:VEVENT
END:VCALENDAR
