BEGIN:VCALENDAR
VERSION:2.0
PRODID:SchoolNow
CALSCALE:GREGORIAN
BEGIN:VEVENT
UID:383b0372-1fb0-11f0-b8db-0a58a9feac02
DTSTAMP:20250522T143321Z
SUMMARY:HOA Landscape Committee - May 14th\,  2025
LOCATION:Forest Creek Clubhouse - 11685 Old Florida Lane\, Parrish\, FL 342
 19
URL;VALUE=URI:https://www.forestcreekcdd.org/calendar/7986124/hoa-landscape
 -committee-may-21st-2025
DTSTART:20250514T220000Z
DTEND:20250515T000000Z
END:VEVENT
END:VCALENDAR
