BEGIN:VCALENDAR
VERSION:2.0
PRODID:SchoolNow
CALSCALE:GREGORIAN
BEGIN:VEVENT
UID:6a312380-246e-11f0-9bbd-0eeb82b10b2f
DTSTAMP:20250428T202149Z
SUMMARY:CASUAL FRIDAY - May 2025
URL;VALUE=URI:https://www.forestcreekcdd.org/calendar/8026750/casual-friday
 -may-2025
DTSTART:20250530T190000Z
DTEND:20250531T010000Z
END:VEVENT
END:VCALENDAR
