BEGIN:VCALENDAR
VERSION:2.0
PRODID:SchoolNow
CALSCALE:GREGORIAN
BEGIN:VEVENT
UID:7b51cf0c-246e-11f0-aa91-0a58a9feac02
DTSTAMP:20250428T202218Z
SUMMARY:CASUAL FRIDAY - Jun. 2025
URL;VALUE=URI:https://www.forestcreekcdd.org/calendar/8026751/casual-friday
 -jun-2025
DTSTART:20250627T190000Z
DTEND:20250628T010000Z
END:VEVENT
END:VCALENDAR
