BEGIN:VCALENDAR
VERSION:2.0
PRODID:SchoolNow
CALSCALE:GREGORIAN
BEGIN:VEVENT
UID:84b34292-246e-11f0-b820-029e3877d669
DTSTAMP:20250428T202233Z
SUMMARY:CASUAL FRIDAY - Jul. 2025
URL;VALUE=URI:https://www.forestcreekcdd.org/calendar/8026752/casual-friday
 -jul-2025
DTSTART:20250725T190000Z
DTEND:20250726T010000Z
END:VEVENT
END:VCALENDAR
