BEGIN:VCALENDAR
VERSION:2.0
PRODID:SchoolNow
CALSCALE:GREGORIAN
BEGIN:VEVENT
UID:8dfcfa96-246e-11f0-9d6f-0e56e220a191
DTSTAMP:20250428T202249Z
SUMMARY:CASUAL FRIDAY - Aug. 2025
URL;VALUE=URI:https://www.forestcreekcdd.org/calendar/8026753/casual-friday
 -aug-2025
DTSTART:20250829T190000Z
DTEND:20250830T010000Z
END:VEVENT
END:VCALENDAR
