BEGIN:VCALENDAR
VERSION:2.0
PRODID:SchoolNow
CALSCALE:GREGORIAN
BEGIN:VEVENT
UID:981d3e1e-246e-11f0-934e-0a58a9feac02
DTSTAMP:20250428T202306Z
SUMMARY:CASUAL FRIDAY - Sept. 2025
URL;VALUE=URI:https://www.forestcreekcdd.org/calendar/8026754/casual-friday
 -sept-2025
DTSTART:20250926T190000Z
DTEND:20250927T010000Z
END:VEVENT
END:VCALENDAR
