BEGIN:VCALENDAR
VERSION:2.0
PRODID:SchoolNow
CALSCALE:GREGORIAN
BEGIN:VEVENT
UID:4aed0b66-3719-11f0-9576-0a58a9feac02
DTSTAMP:20250522T143058Z
SUMMARY:Private Event - June 16\, 2025
URL;VALUE=URI:https://www.forestcreekcdd.org/calendar/8180235/private-event
 -june-16-2025
DTSTART;VALUE=DATE:20250616
DTEND;VALUE=DATE:20250617
END:VEVENT
END:VCALENDAR
